BEGIN:VCALENDAR
VERSION:2.0
PRODID:-//Groovy Cody - ECPv6.15.20//NONSGML v1.0//EN
CALSCALE:GREGORIAN
METHOD:PUBLISH
X-WR-CALNAME:Groovy Cody
X-ORIGINAL-URL:https://groovycody.com
X-WR-CALDESC:Evenementen voor Groovy Cody
REFRESH-INTERVAL;VALUE=DURATION:PT1H
X-Robots-Tag:noindex
X-PUBLISHED-TTL:PT1H
BEGIN:VTIMEZONE
TZID:Europe/Amsterdam
BEGIN:DAYLIGHT
TZOFFSETFROM:+0100
TZOFFSETTO:+0200
TZNAME:CEST
DTSTART:20250330T010000
END:DAYLIGHT
BEGIN:STANDARD
TZOFFSETFROM:+0200
TZOFFSETTO:+0100
TZNAME:CET
DTSTART:20251026T010000
END:STANDARD
BEGIN:DAYLIGHT
TZOFFSETFROM:+0100
TZOFFSETTO:+0200
TZNAME:CEST
DTSTART:20260329T010000
END:DAYLIGHT
BEGIN:STANDARD
TZOFFSETFROM:+0200
TZOFFSETTO:+0100
TZNAME:CET
DTSTART:20261025T010000
END:STANDARD
BEGIN:DAYLIGHT
TZOFFSETFROM:+0100
TZOFFSETTO:+0200
TZNAME:CEST
DTSTART:20270328T010000
END:DAYLIGHT
BEGIN:STANDARD
TZOFFSETFROM:+0200
TZOFFSETTO:+0100
TZNAME:CET
DTSTART:20271031T010000
END:STANDARD
END:VTIMEZONE
BEGIN:VEVENT
DTSTART;TZID=Europe/Amsterdam:20260602T180000
DTEND;TZID=Europe/Amsterdam:20260602T235900
DTSTAMP:20260421T115650
CREATED:20260312T145119Z
LAST-MODIFIED:20260312T205304Z
UID:4657-1780423200-1780444740@groovycody.com
SUMMARY:Private Party - Bruiloft
DESCRIPTION:
URL:https://groovycody.com/event/private-party-bruiloft-02-06-2026/
LOCATION:Voorburg\, Zuid Holland\, Netherlands
END:VEVENT
BEGIN:VEVENT
DTSTART;TZID=Europe/Amsterdam:20260606T210000
DTEND;TZID=Europe/Amsterdam:20260607T010000
DTSTAMP:20260421T115650
CREATED:20250710T133953Z
LAST-MODIFIED:20250710T133953Z
UID:4173-1780779600-1780794000@groovycody.com
SUMMARY:Private Party - Bruiloft
DESCRIPTION:
URL:https://groovycody.com/event/private-party-bruiloft-06-06-2026/
LOCATION:Renesse\, Zeeland\, Netherlands
END:VEVENT
BEGIN:VEVENT
DTSTART;TZID=Europe/Amsterdam:20260613T203000
DTEND;TZID=Europe/Amsterdam:20260614T010000
DTSTAMP:20260421T115650
CREATED:20260409T175909Z
LAST-MODIFIED:20260409T175909Z
UID:4686-1781382600-1781398800@groovycody.com
SUMMARY:Private Party
DESCRIPTION:
URL:https://groovycody.com/event/private-party-13-06-2026/
LOCATION:Valkenburg\, Zuid Holland\, Netherlands
END:VEVENT
BEGIN:VEVENT
DTSTART;TZID=Europe/Amsterdam:20260912T200000
DTEND;TZID=Europe/Amsterdam:20260912T235900
DTSTAMP:20260421T115650
CREATED:20251213T150550Z
LAST-MODIFIED:20251213T150550Z
UID:4356-1789243200-1789257540@groovycody.com
SUMMARY:Private Party - Bruiloft
DESCRIPTION:
URL:https://groovycody.com/event/private-party-bruiloft/
LOCATION:Bloemendaal\, Noord Holland\, Netherlands
END:VEVENT
BEGIN:VEVENT
DTSTART;TZID=Europe/Amsterdam:20261215T190000
DTEND;TZID=Europe/Amsterdam:20261215T220000
DTSTAMP:20260421T115650
CREATED:20260319T214725Z
LAST-MODIFIED:20260319T214725Z
UID:4665-1797361200-1797372000@groovycody.com
SUMMARY:Private Party - Bedrijfsfeest
DESCRIPTION:
URL:https://groovycody.com/event/private-party-bedrijfsfeest/
LOCATION:Nootdorp\, Zuid Holland\, Netherlands
END:VEVENT
END:VCALENDAR